BEGIN:VCALENDAR
VERSION:2.0
PRODID:test.reiseregion-flaeming.de
BEGIN:VEVENT
UID:69e79eda437e1
DTSTART:20260703T130000Z
SEQUENCE:0
TRANSP:OPAQUE
DTEND:20260703T200000Z
URL:http://test.reiseregion-flaeming.de/veranstaltung/ruppiner-seenland/jkf
 -26-jugendkulturfestival
LOCATION:Niemöllerplatz\, Niemöllerplatz 1\, 16816 Neuruppin
X-APPLE-STRUCTURED-LOCATION;VALUE=URI;X-ADDRESS="Niemöllerplatz, Niemölle
 rplatz 1, 16816 Neuruppin";X-APPLE-RADIUS=49;X-TITLE=Niemöllerplatz:geo:1
 2.809796,52.922602
GEO:12.809796;52.922602
SUMMARY:JKF 26 - Jugendkulturfestival
CLASS:PUBLIC
DESCRIPTION:Das Jugendkulturfestival 2026 - JKF 26 - wird nach der Erstaufl
 age im Jahr 2023 an den großen Erfolg anschließen. Macht euch bereit! Mu
 sik\, Graffiti\, Workshops\, alles was ein Festival braucht.\n\nKontakt:\n
 \nMario Zetzsche\, Amt für Kultur und Tourismus\, Neuruppin\nJulia Peetz\
 nKarl-Liebknecht-Straße 33/34\n16816 Neuruppin\nTelefon: +49 3391 355686\
 nEmail: mario.zetzsche@stadtneuruppin.de\nWebseite: https://www.neuruppin-
 erleben.de/kulturverwaltung\n\nWeitere Informationen zur Veranstaltung: ht
 tp://test.reiseregion-flaeming.de/veranstaltung/ruppiner-seenland/jkf-26-j
 ugendkulturfestival
CATEGORIES:Rock / Pop / Jazz,Essen und Trinken,Kinder und Jugendliche
DTSTAMP:20260421T155922Z
END:VEVENT
BEGIN:VEVENT
UID:69e79eda4592e
DTSTART:20260704T130000Z
SEQUENCE:0
TRANSP:OPAQUE
DTEND:20260704T200000Z
URL:http://test.reiseregion-flaeming.de/veranstaltung/ruppiner-seenland/jkf
 -26-jugendkulturfestival
LOCATION:Niemöllerplatz\, Niemöllerplatz 1\, 16816 Neuruppin
X-APPLE-STRUCTURED-LOCATION;VALUE=URI;X-ADDRESS="Niemöllerplatz, Niemölle
 rplatz 1, 16816 Neuruppin";X-APPLE-RADIUS=49;X-TITLE=Niemöllerplatz:geo:1
 2.809796,52.922602
GEO:12.809796;52.922602
SUMMARY:JKF 26 - Jugendkulturfestival
CLASS:PUBLIC
DESCRIPTION:Das Jugendkulturfestival 2026 - JKF 26 - wird nach der Erstaufl
 age im Jahr 2023 an den großen Erfolg anschließen. Macht euch bereit! Mu
 sik\, Graffiti\, Workshops\, alles was ein Festival braucht.\n\nKontakt:\n
 \nMario Zetzsche\, Amt für Kultur und Tourismus\, Neuruppin\nJulia Peetz\
 nKarl-Liebknecht-Straße 33/34\n16816 Neuruppin\nTelefon: +49 3391 355686\
 nEmail: mario.zetzsche@stadtneuruppin.de\nWebseite: https://www.neuruppin-
 erleben.de/kulturverwaltung\n\nWeitere Informationen zur Veranstaltung: ht
 tp://test.reiseregion-flaeming.de/veranstaltung/ruppiner-seenland/jkf-26-j
 ugendkulturfestival
CATEGORIES:Rock / Pop / Jazz,Essen und Trinken,Kinder und Jugendliche
DTSTAMP:20260421T155922Z
END:VEVENT
END:VCALENDAR