BEGIN:VCALENDAR
VERSION:2.0
PRODID:test.reiseregion-flaeming.de
BEGIN:VEVENT
UID:69e74808caa9f
DTSTART:20260619T160000Z
SEQUENCE:0
TRANSP:OPAQUE
DTEND:20260621T120000Z
URL:http://test.reiseregion-flaeming.de/veranstaltung/uckermark/stadtmauerf
 est-templin
LOCATION:Historischer Marktplatz Templin\, Am Markt 19\, 17268 Templin
X-APPLE-STRUCTURED-LOCATION;VALUE=URI;X-ADDRESS="Historischer Marktplatz Te
 mplin, Am Markt 19, 17268 Templin";X-APPLE-RADIUS=49;X-TITLE=Historischer 
 Marktplatz Templin:geo:13.500360,53.119370
GEO:13.500360;53.119370
SUMMARY:StadtMauerFest Templin
CLASS:PUBLIC
DESCRIPTION:In der uckermärkischen Kleinstadt Templin wird jährlich über
  das dritte Juni-Wochenende das StadtMauerFest veranstaltet. Von Freitagab
 end bis Sonntagabend heißt es: „Wir feiern ein Fest von Templinern für
  Templiner & Gäste der Stadt!“  \nAuch in diesem Jahr wird sich das mal
 erische Städtchen in eine lebendige Bühne voller Tradition\, Kultur und 
 Spaß für die  \nganze Familie verwandeln. Alle Festbesucher sind dazu ei
 ngeladen Templin zu entdecken\, zu erleben und gemeinsam zu  \nfeiern.\n\n
 Kontakt:\n\nTMT Tourismus Marketing Templin GmbH\nAm Markt 19\n17268 Templ
 in\nTelefon: +49 3987 2631\nEmail: tmt@templin.de\n\nWeitere Informationen
  zur Veranstaltung: http://test.reiseregion-flaeming.de/veranstaltung/ucke
 rmark/stadtmauerfest-templin
CATEGORIES:Fest / Brauchtum
DTSTAMP:20260421T094856Z
END:VEVENT
END:VCALENDAR