BEGIN:VCALENDAR
VERSION:2.0
PRODID:test.reiseregion-flaeming.de
BEGIN:VEVENT
UID:69e747c34cc27
DTSTART:20260620T080000Z
SEQUENCE:0
TRANSP:OPAQUE
DTEND:20260620T123000Z
URL:http://test.reiseregion-flaeming.de/veranstaltung/prignitz/rangertour-v
 om-kleinen-fluss-an-den-grossen-strom
LOCATION:Burg Lenzen\, Burgvorplatz\, Burgstraße 3\, 19309 Lenzen
X-APPLE-STRUCTURED-LOCATION;VALUE=URI;X-ADDRESS="Burg Lenzen, Burgvorplatz,
  Burgstraße 3, 19309 Lenzen";X-APPLE-RADIUS=49;X-TITLE="Burg Lenzen, Burg
 vorplatz":geo:11.475584,53.089848
GEO:11.475584;53.089848
SUMMARY:RangerTour: Vom kleinen Fluss an den großen Strom
CLASS:PUBLIC
DESCRIPTION:Die Landschaft der Elbe prägt die Region um Lenzen. Feuchtwies
 en\, Moore\, Auwälder\, eine strukturreiche Feldflur aus alten Eichen\, a
 rtenreichen Hecken und einem kleinen Fluss. Die Löcknitz streift das besc
 hauliche Städtchen\, schlängelt sich durch umliegende Dörfer und münde
 t im Mecklenburgischen Elbtal in die Elbe. Wir begleiten sie ein Stück ih
 res Weges\, staunen über schillernde Eisvögel\, durchfahren Alleen und w
 eites Grünland\, bis wir in Mödlich die Elbe erreichen. Ein Wischedorf m
 it eindrucksvollen Hallenhäusern und herrlicher Auenlandschaft. Nach eine
 r kurzen Pause geht es auf dem Deich zurück nach Lenzen. Begleitet von Vo
 gelgesängen\, gaukelnden Faltern und dem großen Strom. Mit etwas Glück 
 zieht der Seeadler seine Kreise.\n\nFernglas empfohlen.\n\nImbiss Einkehr 
 möglich\n\nFahrradverleih: 038792 7516\n\nAnmeldeschluss: 18.06.26\n\nTei
 lnehmer*innen: 5 - 15\n\nDiese Führung ist ein Angebot der \"Ranger-und E
 rlebnistouren\".\n\nKontakt:\n\nNaturwacht Lenzen\nRicarda Rath\nHamburger
  Straße 49\n19309 Lenzen\nTelefon: +49 38792 1701\nEmail: lenzen@naturwac
 ht.de\nWebseite: http://www.naturwacht.de\n\nWeitere Informationen zur Ver
 anstaltung: http://test.reiseregion-flaeming.de/veranstaltung/prignitz/ran
 gertour-vom-kleinen-fluss-an-den-grossen-strom
CATEGORIES:Lust auf NaTour,Radtouren
DTSTAMP:20260421T094747Z
END:VEVENT
END:VCALENDAR