BEGIN:VCALENDAR
VERSION:2.0
PRODID:test.reiseregion-flaeming.de
BEGIN:VEVENT
UID:69e76c74e7494
DTSTART:20261121T190000Z
SEQUENCE:0
TRANSP:OPAQUE
DTEND:20261121T210000Z
URL:http://test.reiseregion-flaeming.de/veranstaltung/uckermark/kabarett-im
 -kloster-mittel-und-wege
LOCATION:Dominikanerkloster Prenzlau\, Kleinkunstsaal\, Uckerwiek 813\, 172
 91 Prenzlau
X-APPLE-STRUCTURED-LOCATION;VALUE=URI;X-ADDRESS="Dominikanerkloster Prenzla
 u, Kleinkunstsaal, Uckerwiek 813, 17291 Prenzlau";X-APPLE-RADIUS=49;X-TITL
 E="Dominikanerkloster Prenzlau, Kleinkunstsaal":geo:13.860285,53.314126
GEO:13.860285;53.314126
SUMMARY:Kabarett im Kloster: Mittel und Wege
CLASS:PUBLIC
DESCRIPTION:Stefan Danziger\n\nIn seinem neuen Programm gibt Stefan Danzige
 r einen skurrilen Einblick in die Geschichte Osteuropas. Nette Wikinger\, 
 ein polyamoröser Iwan der Schreckliche oder warum ein kleiner KGB-Mann de
 n Spitznamen \"Mr. Hexogen\" bekommen hat. Es geht um die Sonnenblume\, mi
 t der er den Kolonialismus der Neuzeit in Europa erklärt und was die Deut
 schen damit zu tun haben.\n\nGleichzeitig beleuchtet er seinen Alltag als 
 Vater und vergleicht ihn mit seiner Kindheit im Ostblock voller Spione und
  Doppelagenten. Eine irre Reise durch seine Gedankenwelt\, voller lustiger
  Anekdoten\, überraschender Fakten der Geschichte Osteuropas\, der Banali
 täten des Alltags sowie Bienen und Katzen.\n\nKontakt:\n\nDominikanerklos
 ter Prenzlau\nJennifer Burghardt\nUckerwiek 813\n17291 Prenzlau\nTelefon: 
 +49 3984 75262\nEmail: veranstaltungen@dominikanerkloster-prenzlau.de\nWeb
 seite: http://www.dominikanerkloster-prenzlau.de\n\nWeitere Informationen 
 zur Veranstaltung: http://test.reiseregion-flaeming.de/veranstaltung/ucker
 mark/kabarett-im-kloster-mittel-und-wege
CATEGORIES:Theater / Tanz / Kabarett
DTSTAMP:20260421T122420Z
END:VEVENT
END:VCALENDAR