BEGIN:VCALENDAR
VERSION:2.0
PRODID:test.reiseregion-flaeming.de
BEGIN:VEVENT
UID:69e4e4533a463
DTSTART;VALUE=DATE:20260807
SEQUENCE:0
TRANSP:OPAQUE
DTEND;VALUE=DATE:20260810
URL:http://test.reiseregion-flaeming.de/veranstaltung/lausitzer-seenland/6-
 insel-classic-oldtimertreffen
LOCATION:Insel Classic Oldtimerwelten - Spreeinsel\, Schloßstraße 8\, 029
 43 Boxberg OT Uhyst
X-APPLE-STRUCTURED-LOCATION;VALUE=URI;X-ADDRESS="Insel Classic Oldtimerwelt
 en - Spreeinsel, Schloßstraße 8, 02943 Boxberg OT Uhyst";X-APPLE-RADIUS=
 49;X-TITLE=Insel Classic Oldtimerwelten - Spreeinsel:geo:14.579412,51.4030
 50
GEO:14.579412;51.403050
SUMMARY:6. INSEL - CLASSIC OLDTIMERTREFFEN
CLASS:PUBLIC
DESCRIPTION:Wir freuen uns auf zwei großartige Eventtage auf erweitertem G
 elände der malerischen Spreeinsel und des historischen Barock-Schlosspark
 s.\n\nDarüber hinaus bietet das Parkgelände vor und hinter dem historisc
 hen Barock-Schloss Uhyst Platz für weitere 250 unangemeldete/spontane Old
 timer\, Youngtimer\, Blaulichter\, LKW\, Feuerwehren\n\nAlle Tage warten f
 ür alle Oldtimerfreunde mit einer begeisternden Fahrzeugauswahl\, stilech
 tem Programm und international-passenden Speiseangeboten auf. Den krönend
 en Abschluss bildet am Sonntagnachmittag eine Oldtimer-Ausfahrt um den Bä
 rwalder See.\n\nFür einen garantierten Platz auf der Spree-Insel sollten 
 Sie sich und Ihren Klassiker vorab anmelden!  \nUnangemeldete/spontane Old
 timer finden Platz im/am Barock-Schlosspark.\n\nKontakt:\n\nDorfklub Uhyst
 \nRobert Noack\n\n02943 Boxberg/ O.L. OT Uhyst/Spree\nTelefon: +49 176 445
 07150\nEmail: insel-classic@gmx.de\nWebseite: http://www.uhyst.de\n\nWeite
 re Informationen zur Veranstaltung: http://test.reiseregion-flaeming.de/ve
 ranstaltung/lausitzer-seenland/6-insel-classic-oldtimertreffen
X-MICROSOFT-CDO-ALLDAYEVENT:TRUE
CATEGORIES:Großveranstaltung,Industriekultur
DTSTAMP:20260419T141859Z
END:VEVENT
END:VCALENDAR