BEGIN:VCALENDAR
VERSION:2.0
PRODID:test.reiseregion-flaeming.de
BEGIN:VEVENT
UID:69e4e482c733d
DTSTART:20261203T181500Z
SEQUENCE:0
TRANSP:OPAQUE
DTEND:20261203T201500Z
URL:http://test.reiseregion-flaeming.de/veranstaltung/spreewald/unheilig-un
 d-special-guests
LOCATION:MesseCottbus\, Vorparkstraße 3\, 03042 Cottbus
X-APPLE-STRUCTURED-LOCATION;VALUE=URI;X-ADDRESS="MesseCottbus, Vorparkstra
 ße 3, 03042 Cottbus";X-APPLE-RADIUS=49;X-TITLE=MesseCottbus:geo:14.348371
 ,51.750225
GEO:14.348371;51.750225
SUMMARY:Unheilig & Special Guests
CLASS:PUBLIC
DESCRIPTION:LIEBE\, GLAUBEMONSTER TOUR 2026/27\n\nNach neun langen Jahren m
 eldet sich der Graf mit seiner Formation UNHEILIG endlich  \nmit neuer Mus
 ik zurück und kündigt eine umfangreiche Arena Tour für den Herbst/Winte
 r  \n2026/2027 an. Die Comeback-Single „Wunderschön“ erscheint\, begl
 eitet von einem  \nMusikvideo und einem Live-Auftritt im Rahmen der Preisv
 erleihung „Goldene Henne“ in  \nLeipzig am 12.09.2025. Ein brandneues 
 Studioalbum mit dem Titel \"LIEBE GLAUBE  \nMONSTER\" wird im März 2026 v
 eröffentlicht.\n\nUNHEILIG hat sich schon immer durch eine sehr große mu
 sikalische Bandbreite  \nausgezeichnet. Von Metal über Pop\, Rock und Bal
 laden zu Schlager und Punkrock oder  \nAlternative Musik und Electro finde
 t sich alles in der Musikalität bei UNHEILIG wieder.\n\nWir freuen uns ü
 ber das Comeback und ein Wiedersehen in 2026.\n\nKontakt:\n\nCottbus Servi
 ce\nBerliner Platz 6\n03046 Cottbus\nTelefon: +49 355 7542444\nEmail: \nWe
 bseite: http://www.cmt-cottbus.de\n\nWeitere Informationen zur Veranstaltu
 ng: http://test.reiseregion-flaeming.de/veranstaltung/spreewald/unheilig-u
 nd-special-guests
CATEGORIES:Rock / Pop / Jazz
DTSTAMP:20260419T141946Z
END:VEVENT
END:VCALENDAR