BEGIN:VCALENDAR
VERSION:2.0
PRODID:test.reiseregion-flaeming.de
BEGIN:VEVENT
UID:69e7bda38036a
DTSTART:20260711T073000Z
SEQUENCE:0
TRANSP:OPAQUE
DTEND:20260711T100000Z
URL:http://test.reiseregion-flaeming.de/veranstaltung/ruppiner-seenland/fai
 res-fruehstueck
LOCATION:Stadt Neuruppin\, Niemöllerplatz\, 16816 Neuruppin
X-APPLE-STRUCTURED-LOCATION;VALUE=URI;X-ADDRESS="Stadt Neuruppin, Niemölle
 rplatz, 16816 Neuruppin";X-APPLE-RADIUS=49;X-TITLE=Stadt Neuruppin:geo:12.
 808456,52.922626
GEO:12.808456;52.922626
SUMMARY:Faires Frühstück
CLASS:PUBLIC
DESCRIPTION:Es wird eingeladen zu einem Frühstücksbuffet mit fair gehande
 lten und regionalen Zutaten.  \nBegleitend gibt es Live-Musik\, Kinderprog
 ramm\, Weltladenstand und kurze Lesungen oder Interwiews.  \nErwartete Tei
 lnahmezahl ca 250 Menschen\n\nKontakt:\n\nFairtrade-Stadt Neuruppin und ES
 TAruppin e.V.\nMarion Duppel\,\nKirchplatz 1\n16827 Neuruppin\nTelefon: +4
 9 160 91101862\nEmail: m.duppel@estaruppin.de\n\nWeitere Informationen zur
  Veranstaltung: http://test.reiseregion-flaeming.de/veranstaltung/ruppiner
 -seenland/faires-fruehstueck
CATEGORIES:Essen und Trinken
DTSTAMP:20260421T181043Z
END:VEVENT
END:VCALENDAR