BEGIN:VCALENDAR
VERSION:2.0
PRODID:test.reiseregion-flaeming.de
BEGIN:VEVENT
UID:69e79f34cdfc5
DTSTART:20260509T173000Z
SEQUENCE:0
TRANSP:OPAQUE
DTEND:20260509T193000Z
URL:http://test.reiseregion-flaeming.de/veranstaltung/potsdam/sinfoniekonze
 rt-rising-stars
LOCATION:Nikolaisaal\, Wilhelm-Staab-Str. 11\, 14467 Potsdam
X-APPLE-STRUCTURED-LOCATION;VALUE=URI;X-ADDRESS="Nikolaisaal, Wilhelm-Staab
 -Str. 11, 14467 Potsdam";X-APPLE-RADIUS=49;X-TITLE=Nikolaisaal:geo:13.0488
 38,52.399551
GEO:13.048838;52.399551
SUMMARY:Sinfoniekonzert: Rising Stars
CLASS:PUBLIC
DESCRIPTION:Im September 2022 gewann der junge Pianist Lukas Sternath den e
 rsten Preis des ARD-Musikwettbewerbs\, zusätzlich wurden ihm sieben Sonde
 rpreise verliehen\, darunter der Publikumspreis. radio3 nannte ihn jüngst
  den „Rising Star der Pianowelt“.\n\nSeine Karriere begann als Wiener 
 Sängerknabe\, danach studierte er Klavier\, zuerst in seiner Heimatstadt 
 Wien\, anschließend bei Igor Levit in Hannover. Unter der Leitung des bri
 tischen Dirigenten Kerem Hasan feiert er nun mit Ludwig van Beethovens imp
 osanten Klavierkonzert Nr. 5 sein KAP-Debüt.\n\nAuch Emilie Mayer gehört
 e zu den aufstrebenden Künstler*innen ihrer Zeit. Geboren in Mecklenburg\
 , gilt sie als die bedeutendste deutsche Komponistin des 19. Jahrhunderts 
 und hatte wie ihr Zeitgenosse Beethoven einen besonderen Sinn für Melodik
  und Dynamik. Heute fast vergessen\, gelang ihr zu Lebzeiten das Unglaubli
 che: ihre Sinfonien wurden in ganz Europa aufgeführt und gefeiert.\n\n18.
 45 Uhr Konzerteinführung\n\nKontakt:\n\nKammerakademie Potsdam\nWilhelm-S
 taab-Str. 11\n14467 Potsdam\nTelefon: +49 331 2370527\nEmail: info@kammera
 kademie-potsdam.de\n\nWeitere Informationen zur Veranstaltung: http://test
 .reiseregion-flaeming.de/veranstaltung/potsdam/sinfoniekonzert-rising-star
 s
CATEGORIES:Klassisches Konzert / Oper
DTSTAMP:20260421T160052Z
END:VEVENT
END:VCALENDAR