BEGIN:VCALENDAR
VERSION:2.0
PRODID:test.reiseregion-flaeming.de
BEGIN:VEVENT
UID:69e7881da9afa
DTSTART:20260520T173000Z
SEQUENCE:0
TRANSP:OPAQUE
DTEND:20260520T193000Z
URL:http://test.reiseregion-flaeming.de/veranstaltung/seenland-oder-spree/d
 er-124-blaue-mittwoch
LOCATION:Kleist Forum\, Platz der Einheit 1\, 15230 Frankfurt (Oder)
X-APPLE-STRUCTURED-LOCATION;VALUE=URI;X-ADDRESS="Kleist Forum, Platz der Ei
 nheit 1, 15230 Frankfurt (Oder)";X-APPLE-RADIUS=49;X-TITLE=Kleist Forum:ge
 o:14.543806,52.342575
GEO:14.543806;52.342575
SUMMARY:Der 124. Blaue Mittwoch
CLASS:PUBLIC
DESCRIPTION:Kabarett & Show  \nMit den Maulhelden / Moderation: Arnulf Rati
 ng\n\nBegleitet von einer für jeden Abend wechselnden Band\, gibt »Der B
 laue Mittwoch« einen Einblick in das\, was in der Berliner und Brandenbur
 ger Szene auf den Bühnen tobt oder im Verborgenen blüht. Eine schräge u
 nd kontrastreiche Show mit Comedians\, Artist:innen\, Chören und Wortkün
 stler:innen\, präsentiert vom Kabarettisten Arnulf Rating und dem Maulhel
 den-Team.\n\nKontakt:\n\n\n\n \nTelefon: +49 335 4010120\nEmail: \n\nWeite
 re Informationen zur Veranstaltung: http://test.reiseregion-flaeming.de/ve
 ranstaltung/seenland-oder-spree/der-124-blaue-mittwoch
CATEGORIES:Theater / Tanz / Kabarett
DTSTAMP:20260421T142221Z
END:VEVENT
END:VCALENDAR